BEGIN:VCALENDAR
VERSION:2.0
PRODID:-//Minerva Group Service - ECPv5.0.3.1//NONSGML v1.0//EN
CALSCALE:GREGORIAN
METHOD:PUBLISH
X-WR-CALNAME:Minerva Group Service
X-ORIGINAL-URL:https://www.minervagroupservice.com
X-WR-CALDESC:Eventi per Minerva Group Service
BEGIN:VTIMEZONE
TZID:UTC
BEGIN:STANDARD
TZOFFSETFROM:+0000
TZOFFSETTO:+0000
TZNAME:UTC
DTSTART:20200101T000000
END:STANDARD
END:VTIMEZONE
BEGIN:VEVENT
DTSTART;VALUE=DATE:20200528
DTEND;VALUE=DATE:20200530
DTSTAMP:20260422T101444
CREATED:20200625T084849Z
LAST-MODIFIED:20200625T164136Z
UID:1817-1590624000-1590796799@www.minervagroupservice.com
SUMMARY:Milano Digital Week 2020
DESCRIPTION:[vc_row css_animation=”” row_type=”row” use_row_as_full_screen_section=”no” type=”full_width” angled_section=”no” text_align=”left” background_image_as_pattern=”without_pattern” css=”.vc_custom_1586167389515{margin-bottom: 30px !important;}” z_index=””][vc_column][vc_column_text]Milano Digital Week 2020 \nMilano\, 28\,  29  Maggio  2020 \nMilano Digital Week è un evento organizzato dal Comune di Milano che vuole favorire la produzione di conoscenza e innovazione attraverso le tecnologie digitali. \nLo scopo dell’evento è valorizzare e condividere  le esperienze in materia di Open Innovation\, Open access e Open source di università\, centri di ricerca\, enti di formazione\, startup\, enti pubblici\, aziende private\, associazioni. \nL’evento si articola in una serie di workshop organizzati da questi soggetti in tutta la città. \nMinerva Group Service ha partecipato alla Milano Digital Week 2020  con due workshop di grande attualità: la gestione dell’innovazione (standard ISO 56002) e la gestione della continuità operativa (standard ISO 22301) \nWorkshop “Gestire la continuità operativa: standard ISO 22301:2018” \nRelatori: Andrea Leonardi\, Patrizia Leonardi\,  Monica Roberta Leonardi \nKey topic: \n#businesscontinuty #resilienza #ISO22301 #informationsecurity #ISO27001 #privacy #GDPR #ITservices #ISO200001 \nWorkshop “Gestire l’innovzione: standard ISO 56002:2019  ” \nRelatori: Andrea Leonardi\, Patrizia Leonardi\,  Monica Roberta Leonardi \nKey topic: \n#innovation #ISO56002 #projectmanagement #ISO21500 #Lego #leoseriousplay[/vc_column_text][vc_empty_space][/vc_column][/vc_row][vc_row css_animation=”” row_type=”row” use_row_as_full_screen_section=”no” type=”full_width” angled_section=”no” text_align=”left” background_image_as_pattern=”without_pattern” z_index=””][vc_column][vc_gallery type=”image_grid” images=”1833\,1835\,1837\,1839\,1841\,1843\,1845\,1847\,1849\,1851\,1853\,1855\,1857\,1859\,1861″ img_size=”300×200″ column_number=”5″ grayscale=”no” images_space=”gallery_with_space”][/vc_column][/vc_row] \n
URL:https://www.minervagroupservice.com/evento/milano-digital-week-2020/
LOCATION:Milano
CATEGORIES:eventi
ATTACH;FMTTYPE=image/png:https://www.minervagroupservice.com/wp-content/uploads/2020/05/MDW_Maggio_1.png
END:VEVENT
END:VCALENDAR